BEGIN:VCALENDAR
VERSION:2.0
PRODID:spatie/icalendar-generator
DESCRIPTION:Events from Pensacola Catholic High School
X-WR-CALDESC:Events from Pensacola Catholic High School
REFRESH-INTERVAL;VALUE=DURATION:PT1440M
X-PUBLISHED-TTL:PT1440M
BEGIN:VTIMEZONE
TZID:America/Chicago
BEGIN:DAYLIGHT
DTSTART:20240310T020000Z
TZOFFSETFROM:-0600
TZOFFSETTO:-0500
END:DAYLIGHT
BEGIN:STANDARD
DTSTART:20241103T020000Z
TZOFFSETFROM:-0500
TZOFFSETTO:-0600
END:STANDARD
END:VTIMEZONE
BEGIN:VTIMEZONE
TZID:UTC
BEGIN:STANDARD
DTSTART:20250725T130204Z
TZOFFSETFROM:+0000
TZOFFSETTO:+0000
END:STANDARD
END:VTIMEZONE
BEGIN:VEVENT
UID:1683-1550
DTSTAMP:20260421T130204Z
SUMMARY:Girls Golf at Osceola
LOCATION:Osceola Municipal Golf Course 300 Tonawanda Dr  Pensacola Florida 
 32506
ORGANIZER;CN=Keith Haynes:MAILTO:khaynes@pensacolachs.org
DTSTART;TZID=America/Chicago:20240819T160000
DTEND;TZID=America/Chicago:20240819T170000
X-ALT-DESC;FMTTYPE=TEXT/HTML:vs. Pine Forest and Navarre
CATEGORIES:Athletics
URL;VALUE=URI:https://pensacolachs.org/mc-events/girls-golf-at-osceola/
METHOD:PUBLISH
END:VEVENT
END:VCALENDAR