BEGIN:VCALENDAR
VERSION:2.0
PRODID:spatie/icalendar-generator
DESCRIPTION:Events from Pensacola Catholic High School
X-WR-CALDESC:Events from Pensacola Catholic High School
REFRESH-INTERVAL;VALUE=DURATION:PT1440M
X-PUBLISHED-TTL:PT1440M
BEGIN:VTIMEZONE
TZID:America/Chicago
BEGIN:DAYLIGHT
DTSTART:20240310T020000Z
TZOFFSETFROM:-0600
TZOFFSETTO:-0500
END:DAYLIGHT
BEGIN:STANDARD
DTSTART:20241103T020000Z
TZOFFSETFROM:-0500
TZOFFSETTO:-0600
END:STANDARD
END:VTIMEZONE
BEGIN:VTIMEZONE
TZID:UTC
BEGIN:STANDARD
DTSTART:20250725T113540Z
TZOFFSETFROM:+0000
TZOFFSETTO:+0000
END:STANDARD
END:VTIMEZONE
BEGIN:VEVENT
UID:1682-1126
DTSTAMP:20260421T113540Z
SUMMARY:Football At Pace (9th &amp;amp\; JV)
LOCATION:Pace High School 4065 Norris Road  Pace Florida 32571
ORGANIZER;CN=Keith Haynes:MAILTO:khaynes@pensacolachs.org
DTSTART;TZID=America/Chicago:20240826T170000
DTEND;TZID=America/Chicago:20240826T200000
X-ALT-DESC;FMTTYPE=TEXT/HTML:Tickets JV 7:00 p.m. 9th 5:00 p.m.
CATEGORIES:Athletics
URL;VALUE=URI:https://pensacolachs.org/mc-events/football-at-pace-9th-jv/
METHOD:PUBLISH
END:VEVENT
END:VCALENDAR