BEGIN:VCALENDAR
VERSION:2.0
PRODID:spatie/icalendar-generator
DESCRIPTION:Events from Pensacola Catholic High School
X-WR-CALDESC:Events from Pensacola Catholic High School
REFRESH-INTERVAL;VALUE=DURATION:PT1440M
X-PUBLISHED-TTL:PT1440M
BEGIN:VTIMEZONE
TZID:America/Chicago
BEGIN:DAYLIGHT
DTSTART:20240310T020000Z
TZOFFSETFROM:-0600
TZOFFSETTO:-0500
END:DAYLIGHT
BEGIN:STANDARD
DTSTART:20241103T020000Z
TZOFFSETFROM:-0500
TZOFFSETTO:-0600
END:STANDARD
END:VTIMEZONE
BEGIN:VTIMEZONE
TZID:UTC
BEGIN:STANDARD
DTSTART:20250725T113745Z
TZOFFSETFROM:+0000
TZOFFSETTO:+0000
END:STANDARD
END:VTIMEZONE
BEGIN:VEVENT
UID:1422-1296
DTSTAMP:20260421T113745Z
SUMMARY:Volleyball At Tate (9th\, JV &amp;amp\; Varsity)
LOCATION:Tate High School 1771 Tate Road  Cantonment Florida 32533
ORGANIZER;CN=Keith Haynes:MAILTO:khaynes@pensacolachs.org
DTSTART;TZID=America/Chicago:20240827T163000
DTEND;TZID=America/Chicago:20240827T200000
X-ALT-DESC;FMTTYPE=TEXT/HTML:9th - 4:30 p.m. JV - 5:30 p.m. Varsity - 6:30 
 p.m. Tickets - GoFan
CATEGORIES:Athletics
URL;VALUE=URI:https://pensacolachs.org/mc-events/volleyball-at-tate-9th-jv-
 varsity-2/
METHOD:PUBLISH
END:VEVENT
END:VCALENDAR