BEGIN:VCALENDAR
VERSION:2.0
PRODID:spatie/icalendar-generator
DESCRIPTION:Events from Pensacola Catholic High School
X-WR-CALDESC:Events from Pensacola Catholic High School
REFRESH-INTERVAL;VALUE=DURATION:PT1440M
X-PUBLISHED-TTL:PT1440M
BEGIN:VTIMEZONE
TZID:America/Chicago
BEGIN:DAYLIGHT
DTSTART:20240310T020000Z
TZOFFSETFROM:-0600
TZOFFSETTO:-0500
END:DAYLIGHT
BEGIN:STANDARD
DTSTART:20241103T020000Z
TZOFFSETFROM:-0500
TZOFFSETTO:-0600
END:STANDARD
END:VTIMEZONE
BEGIN:VTIMEZONE
TZID:UTC
BEGIN:STANDARD
DTSTART:20250725T130058Z
TZOFFSETFROM:+0000
TZOFFSETTO:+0000
END:STANDARD
END:VTIMEZONE
BEGIN:VEVENT
UID:1393-1270
DTSTAMP:20260421T130058Z
SUMMARY:Teachers Mass
LOCATION:Sacred Heart Catholic Church 1212 E. Moreno Street  Pensacola Flor
 ida 32503
ORGANIZER;CN=Keith Haynes:MAILTO:khaynes@pensacolachs.org
DTSTART;TZID=America/Chicago:20240802T110000
DTEND;TZID=America/Chicago:20240802T120000
X-ALT-DESC;FMTTYPE=TEXT/HTML:
CATEGORIES:PCHS Events
URL;VALUE=URI:https://pensacolachs.org/mc-events/teachers-mass/
METHOD:PUBLISH
END:VEVENT
END:VCALENDAR