BEGIN:VCALENDAR
VERSION:2.0
PRODID:spatie/icalendar-generator
DESCRIPTION:Events from Pensacola Catholic High School
X-WR-CALDESC:Events from Pensacola Catholic High School
REFRESH-INTERVAL;VALUE=DURATION:PT1440M
X-PUBLISHED-TTL:PT1440M
BEGIN:VTIMEZONE
TZID:America/Chicago
BEGIN:DAYLIGHT
DTSTART:20240310T020000Z
TZOFFSETFROM:-0600
TZOFFSETTO:-0500
END:DAYLIGHT
BEGIN:STANDARD
DTSTART:20241103T020000Z
TZOFFSETFROM:-0500
TZOFFSETTO:-0600
END:STANDARD
END:VTIMEZONE
BEGIN:VTIMEZONE
TZID:UTC
BEGIN:STANDARD
DTSTART:20250725T131800Z
TZOFFSETFROM:+0000
TZOFFSETTO:+0000
END:STANDARD
END:VTIMEZONE
BEGIN:VEVENT
UID:1691-1558
DTSTAMP:20260421T131800Z
SUMMARY:Girls Golf at Atmore C.C.
LOCATION:Atmore Country Club 4474 US-31  Atmore Alabama 36502
ORGANIZER;CN=Keith Haynes:MAILTO:khaynes@pensacolachs.org
DTSTART;TZID=America/Chicago:20240826T160000
DTEND;TZID=America/Chicago:20240826T170000
X-ALT-DESC;FMTTYPE=TEXT/HTML:vs. Northview
CATEGORIES:Athletics
URL;VALUE=URI:https://pensacolachs.org/mc-events/girls-golf-at-atmore-c-c/
METHOD:PUBLISH
END:VEVENT
END:VCALENDAR