BEGIN:VCALENDAR
VERSION:2.0
PRODID:spatie/icalendar-generator
DESCRIPTION:Events from Pensacola Catholic High School
X-WR-CALDESC:Events from Pensacola Catholic High School
REFRESH-INTERVAL;VALUE=DURATION:PT1440M
X-PUBLISHED-TTL:PT1440M
BEGIN:VTIMEZONE
TZID:America/Chicago
BEGIN:DAYLIGHT
DTSTART:20240310T020000Z
TZOFFSETFROM:-0600
TZOFFSETTO:-0500
END:DAYLIGHT
BEGIN:STANDARD
DTSTART:20241103T020000Z
TZOFFSETFROM:-0500
TZOFFSETTO:-0600
END:STANDARD
END:VTIMEZONE
BEGIN:VTIMEZONE
TZID:UTC
BEGIN:STANDARD
DTSTART:20250725T131318Z
TZOFFSETFROM:+0000
TZOFFSETTO:+0000
END:STANDARD
END:VTIMEZONE
BEGIN:VEVENT
UID:1419-1293
DTSTAMP:20260421T131318Z
SUMMARY:Volleyball Vs Sneads (JV and Varsity)
LOCATION:Pensacola Catholic High School 3043 W. Scott Street  Pensacola FL 
 32505
ORGANIZER;CN=Keith Haynes:MAILTO:khaynes@pensacolachs.org
DTSTART;TZID=America/Chicago:20240819T170000
DTEND;TZID=America/Chicago:20240819T193000
X-ALT-DESC;FMTTYPE=TEXT/HTML:JV - 5:00 p.m. Varsity - 6:00 p.m. Tickets - G
 oFan Livestream - NFHS Network
CATEGORIES:Athletics
URL;VALUE=URI:https://pensacolachs.org/mc-events/volleyball-vs-sneads-jv-an
 d-varsity-2/
METHOD:PUBLISH
END:VEVENT
END:VCALENDAR